BEGIN:VCALENDAR
VERSION:2.0
PRODID:-//ChamberMaster//Event Calendar 2.0//EN
METHOD:PUBLISH
X-PUBLISHED-TTL:P3D
REFRESH-INTERVAL:P3D
CALSCALE:GREGORIAN
BEGIN:VEVENT
DTSTART:20250927T140000Z
DTEND:20250927T180000Z
X-MICROSOFT-CDO-ALLDAYEVENT:FALSE
SUMMARY:10th Annual Cougars Unleashed Homecoming Run
DESCRIPTION:Get ready to Unleash the Spirit at the 10th Annual Cougars Unleashed Homecoming Run & Pancake Breakfast part of SIUE's Homecoming & Family Weekend! Choose from a 10K\, 5K\, or Fun Run whether you're a competitive runner or just in it for the pancakes\, there's something for everyone. Special $5 Discount for SIUE Alumni and Discounted Pricing for Current SIUE Students! We're excited to offer a discounted registration rate exclusively for SIUE alumni and current students. It's our way of saying thank you for being part of the Cougar community! This signature event is open to alumni\, students\, faculty\, staff\, and the entire community. Even better your participation helps support the SIUE Alumni Association Scholarship and Programs\, which provide over $20\,000 annually in scholarships to deserving students and deliver meaningful programming for alumni. After you cross the finish line\, stick around for a complimentary pancake breakfast from Chris Cakes and for those 21 and older a refreshing post-run beer from Global Brew. Run. Support. Celebrate. Let's Unleash the Spirit together!
X-ALT-DESC;FMTTYPE=text/html:Get ready to Unleash the Spirit at the 10th Annual Cougars Unleashed Homecoming Run &amp\; Pancake Breakfast&mdash\;part of SIUE&rsquo\;s Homecoming &amp\; Family Weekend! Choose from a 10K\, 5K\, or Fun Run&mdash\;whether you&rsquo\;re a competitive runner or just in it for the pancakes\, there&rsquo\;s something for everyone. Special $5 Discount for SIUE Alumni and Discounted Pricing for Current SIUE Students! We&rsquo\;re excited to offer a discounted registration rate exclusively for SIUE alumni and current students. It&rsquo\;s our way of saying thank you for being part of the Cougar community! This signature event is open to alumni\, students\, faculty\, staff\, and the entire community. Even better&mdash\;your participation helps support the SIUE Alumni Association Scholarship and Programs\, which provide over $20\,000 annually in scholarships to deserving students and deliver meaningful programming for alumni. After you cross the finish line\, stick around for a complimentary pancake breakfast from Chris Cakes and&mdash\;for those 21 and older&mdash\;a refreshing post-run beer from Global Brew. Run. Support. Celebrate. Let&rsquo\;s Unleash the Spirit&mdash\;together!
LOCATION:SIUE Stratton Quad
UID:e.3456.10421
SEQUENCE:3
DTSTAMP:20260420T170159Z
URL:https://www.troymaryvillecoc.com/events/details/10th-annual-cougars-unleashed-homecoming-run-10421
END:VEVENT

END:VCALENDAR
