BEGIN:VCALENDAR
VERSION:2.0
PRODID:-//ChamberMaster//Event Calendar 2.0//EN
METHOD:PUBLISH
X-PUBLISHED-TTL:P3D
REFRESH-INTERVAL:P3D
CALSCALE:GREGORIAN
BEGIN:VEVENT
DTSTART:20251115T150000Z
DTEND:20251115T170000Z
X-MICROSOFT-CDO-ALLDAYEVENT:FALSE
SUMMARY:19th Annual Turkey Trot
DESCRIPTION:19th Annual Turkey Trot 5k
X-ALT-DESC;FMTTYPE=text/html:19th Annual Turkey Trot 5k
LOCATION:Drost Park Maryville IL
UID:e.3456.10009
SEQUENCE:3
DTSTAMP:20260420T120245Z
URL:https://www.troymaryvillecoc.com/events/details/19th-annual-turkey-trot-10009
END:VEVENT

END:VCALENDAR
