BEGIN:VCALENDAR
VERSION:2.0
PRODID:-//ChamberMaster//Event Calendar 2.0//EN
METHOD:PUBLISH
X-PUBLISHED-TTL:P3D
REFRESH-INTERVAL:P3D
CALSCALE:GREGORIAN
BEGIN:VEVENT
DTSTART;VALUE=DATE:20250913
DTEND;VALUE=DATE:20250914
TRANSP:TRANSPARENT
X-MICROSOFT-CDO-ALLDAYEVENT:TRUE
SUMMARY:2025 Midwest Holistic Wellness Fair
DESCRIPTION:Discover Alternative Options for Your Body\, Mind\, and Spirit. 50 vendors will be here from the Health and Wellness Community in St Louis and Illinois for you to talk with and sample products and services.
X-ALT-DESC;FMTTYPE=text/html:Discover Alternative Options for Your Body\, Mind\, and Spirit. 50 vendors will be here from the Health and Wellness Community in St Louis and Illinois for you to talk with and sample products and services.
LOCATION:Gateway Convention Center in Collinsville
UID:e.3456.10469
SEQUENCE:3
DTSTAMP:20260420T184340Z
URL:https://www.troymaryvillecoc.com/events/details/2025-midwest-holistic-wellness-fair-10469
END:VEVENT

END:VCALENDAR
