BEGIN:VCALENDAR
VERSION:2.0
PRODID:-//ChamberMaster//Event Calendar 2.0//EN
METHOD:PUBLISH
X-PUBLISHED-TTL:P3D
REFRESH-INTERVAL:P3D
CALSCALE:GREGORIAN
BEGIN:VEVENT
DTSTART:20251105T133000Z
DTEND:20251105T213000Z
X-MICROSOFT-CDO-ALLDAYEVENT:FALSE
SUMMARY:2025 Women's Conference - See the Signs... Be the Change
DESCRIPTION:Women leaders\, entrepreneurs\, and professionals across the region are invited to mark their calendars for the highly anticipated 2025 Women's Conference\, themed "See The Signs... Be The Change." This empowering event\, set to take place on Wednesday\, November 5\, at The Outlet at Edison's Entertainment Complex.  The day will be filled with a full day of insightful discussions\, practical workshops\, and unparalleled networking opportunities designed to inspire growth\, foster leadership\, and champion well-being.\n\n\n\nThe conference will kick off at 7:15 AM with registration\, breakfast\, and networking\, leading into an impactful opening remarks session. Attendees will have the unique opportunity to engage with a diverse lineup of expert speakers and panelists\, addressing critical topics relevant to today's evolving professional landscape.\n\n\n\nKey highlights of the 2025 Women's Conference include:\n\n	Empowering Leadership: Tracy Bianco of Tracy Bianco Coaching & Consulting will present "Lead Yourself First: 5 Questions to Take You from Settling to Succeeding (on Your Own Terms)\," offering actionable strategies for personal and professional advancement.\n	Building Strong Cultures: Wendy Symer of WLS Consulting will lead a session on "Building Culture for Success and Succession\," focusing on cultivating environments that drive long-term organizational success.\n	Conquering Challenges: Jeff Koziatek from Core Authenticity will tackle "Breaking Imposter Syndrome\," providing attendees with tools to overcome self-doubt and embrace their authentic leadership.\n	The Power of Self-Awareness: Lisa Phillipson of Positively Speaking with Lisa will delve into "The Power of Self Awareness\," emphasizing its role in guiding\, inspiring\, and connecting effectively.\n	Strategizing for Well-being: Alyssa Loman of Empowered Pathways LLC will guide participants in "Strategizing for Self-Care\," offering a 5-step guideline for personalized self-care plans.\n	Navigating Change & Action: Jennifer Ellis from Counselors Associates will present "From Awareness to Action: Understanding the signs and creating a life you need\," providing therapeutic insights and practical tools for personal transformation.\n	AI for Everyone: Emily Gretak of TMSM COC will demystify artificial intelligence in her session\, "What You Can Do With AI\," showcasing practical ways AI can enhance everyday tasks and boost productivity for non-tech experts.\n\nA dynamic "Panel of Experts: Rising Strong: Women Redefining Success in Business" will feature accomplished professionals including Angie Lange (Express Employment Professionals)\, Brooke Andrews (Madison County Employment and Training)\, Stacey Bauer (Hire Level\, Inc.)\, and Dr. Samantha Happold (Happy Family Chiropractic). This panel will offer diverse perspectives on navigating challenges and achieving success.\n\n\n\nThe conference also includes dedicated networking sessions\, a delicious lunch\, and a dessert break\, providing ample opportunities for attendees to connect\, share insights\, and build valuable relationships.\n\n\n\n"We are thrilled to bring together such an exceptional group of speakers and panelists for the 2025 Women's Conference\," says Dawn Mushill\, President/CEO of the Troy/Maryville/St. Jacob/Marine Chamber of Commerce  "This year's theme\, 'See The Signs... Be The Change\,' truly encapsulates our commitment to empowering women to recognize opportunities for growth and take decisive action in their lives and careers. We believe every attendee will leave feeling inspired\, equipped\, and connected."\n\n \n\nSponsorships\n\n\n	Exclusive Event Sponsor - $1\,500\n	\n		Includes: VIP Seating\, Table of 6 & Recognition\n	\n	\n	Stage Speaker Sponsor - $1\,000\n	\n		Includes: Table of 6 & Recognition\n	\n	\n	Breakout Speaker Sponsor - $500\n	\n		Incudes: 4 Tickets & Recognition\n	\n	\n	Panel Sponsor - $500 - SOLD OUT\n	\n		Incudes: 4 Tickets & Recognition\n	\n	\n	Lunch Sponsor - $400\n	\n		Includes: 2 Tickets & Recognition\n	\n	\n	Decoration Sponsor - $250\n	\n		Includes: 2 Tickets & Recognition\n	\n	\n	Breakfast Sponsor - $300\n	\n		Includes: 2 Tickets & Recognition\n	\n	\n	Triad Student Sponsor - $250\n	\n		Includes: 4 Tickets for Students & Recognition\n	\n	\n	Promotional Product Sponsor - $200 - SOLD OUT\n	\n		Includes: Recognition\n	\n	\n	Dessert Sponsor - $150 - SOLD OUT\n	\n		Recognition\n	\n	\n	Snack Break Sponsor - $150\n	\n		Recognition
X-ALT-DESC;FMTTYPE=text/html:<br />\n<br />\n<span style="color:#1A1C1E\;"><span style="font-family:arial\,sans-serif\;"><span style="font-size:10.5pt\;">Women leaders\, entrepreneurs\, and professionals across the region are invited to mark their calendars for the highly anticipated 2025 Women&#39\;s Conference\, themed &quot\;See The Signs... Be The Change.&quot\; This empowering event\, set to take place on Wednesday\, November 5\, at The Outlet at Edison&rsquo\;s Entertainment Complex.&nbsp\; The day will be filled with a full day of insightful discussions\, practical workshops\, and unparalleled networking opportunities designed to inspire growth\, foster leadership\, and champion well-being.</span></span></span><br />\n<br />\n<span style="color:#1A1C1E\;"><span style="font-family:arial\,sans-serif\;"><span style="font-size:10.5pt\;">The conference will kick off at 7:15 AM with registration\, breakfast\, and networking\, leading into an impactful opening remarks session. Attendees will have the unique opportunity to engage with a diverse lineup of expert speakers and panelists\, addressing critical topics relevant to today&#39\;s evolving professional landscape.</span></span></span><br />\n<br />\n<span style="color:#1A1C1E\;"><span style="font-family:arial\,sans-serif\;"><span style="font-size:10.5pt\;">Key highlights of the 2025 Women&#39\;s Conference include:</span></span></span>\n<ul>\n	<li style="margin-top:0in\;margin-right:0in\;margin-bottom:2.25pt\;background:white\;"><span style="color:#1A1C1E\;"><span style="font-family:arial\,sans-serif\;"><span style="font-size:10.5pt\;">Empowering Leadership:&nbsp\;Tracy Bianco of Tracy Bianco Coaching &amp\; Consulting will present &quot\;Lead Yourself First: 5 Questions to Take You from Settling to Succeeding (on Your Own Terms)\,&quot\; offering actionable strategies for personal and professional advancement.</span></span></span></li>\n	<li style="margin-top:0in\;margin-right:0in\;margin-bottom:2.25pt\;background:white\;"><span style="color:#1A1C1E\;"><span style="font-family:arial\,sans-serif\;"><span style="font-size:10.5pt\;">Building Strong Cultures:&nbsp\;Wendy Symer of WLS Consulting will lead a session on &quot\;Building Culture for Success and Succession\,&quot\; focusing on cultivating environments that drive long-term organizational success.</span></span></span></li>\n	<li style="margin-top:0in\;margin-right:0in\;margin-bottom:2.25pt\;background:white\;"><span style="color:#1A1C1E\;"><span style="font-family:arial\,sans-serif\;"><span style="font-size:10.5pt\;">Conquering Challenges:&nbsp\;Jeff Koziatek from Core Authenticity will tackle &quot\;Breaking Imposter Syndrome\,&quot\; providing attendees with tools to overcome self-doubt and embrace their authentic leadership.</span></span></span></li>\n	<li style="margin-top:0in\;margin-right:0in\;margin-bottom:2.25pt\;background:white\;"><span style="color:#1A1C1E\;"><span style="font-family:arial\,sans-serif\;"><span style="font-size:10.5pt\;">The Power of Self-Awareness:&nbsp\;Lisa Phillipson of Positively Speaking with Lisa will delve into &quot\;The Power of Self Awareness\,&quot\; emphasizing its role in guiding\, inspiring\, and connecting effectively.</span></span></span></li>\n	<li style="margin-top:0in\;margin-right:0in\;margin-bottom:2.25pt\;background:white\;"><span style="color:#1A1C1E\;"><span style="font-family:arial\,sans-serif\;"><span style="font-size:10.5pt\;">Strategizing for Well-being:&nbsp\;Alyssa Loman of Empowered Pathways LLC will guide participants in &quot\;Strategizing for Self-Care\,&quot\; offering a 5-step guideline for personalized self-care plans.</span></span></span></li>\n	<li style="margin-top:0in\;margin-right:0in\;margin-bottom:2.25pt\;background:white\;"><span style="color:#1A1C1E\;"><span style="font-family:arial\,sans-serif\;"><span style="font-size:10.5pt\;">Navigating Change &amp\; Action:&nbsp\;Jennifer Ellis from Counselors Associates will present &quot\;From Awareness to Action: Understanding the signs and creating a life you need\,&quot\; providing therapeutic insights and practical tools for personal transformation.</span></span></span></li>\n	<li style="margin-top:0in\;margin-right:0in\;margin-bottom:2.25pt\;background:white\;"><span style="color:#1A1C1E\;"><span style="font-family:arial\,sans-serif\;"><span style="font-size:10.5pt\;">AI for Everyone:&nbsp\;Emily Gretak of TMSM COC will demystify artificial intelligence in her session\, &quot\;What You Can Do With AI\,&quot\; showcasing practical ways AI can enhance everyday tasks and boost productivity for non-tech experts.</span></span></span></li>\n</ul>\n<span style="color:#1A1C1E\;"><span style="font-family:arial\,sans-serif\;"><span style="font-size:10.5pt\;">A dynamic &quot\;Panel of Experts: Rising Strong: Women Redefining Success in Business&quot\; will feature accomplished professionals including Angie Lange (Express Employment Professionals)\, Brooke Andrews (Madison County Employment and Training)\, Stacey Bauer (Hire Level\, Inc.)\, and Dr. Samantha Happold (Happy Family Chiropractic). This panel will offer diverse perspectives on navigating challenges and achieving success.</span></span></span><br />\n<br />\n<span style="color:#1A1C1E\;"><span style="font-family:arial\,sans-serif\;"><span style="font-size:10.5pt\;">The conference also includes dedicated networking sessions\, a delicious lunch\, and a dessert break\, providing ample opportunities for attendees to connect\, share insights\, and build valuable relationships.</span></span></span><br />\n<br />\n<span style="color:#1A1C1E\;"><span style="font-family:arial\,sans-serif\;"><span style="font-size:10.5pt\;">&quot\;We are thrilled to bring together such an exceptional group of speakers and panelists for the 2025 Women&#39\;s Conference\,&quot\; says Dawn Mushill\, President/CEO of the Troy/Maryville/St. Jacob/Marine Chamber of Commerce&nbsp\; &quot\;This year&#39\;s theme\, &#39\;See The Signs... Be The Change\,&#39\; truly encapsulates our commitment to empowering women to recognize opportunities for growth and take decisive action in their lives and careers. We believe every attendee will leave feeling inspired\, equipped\, and connected.&quot\;</span></span></span><br />\n&nbsp\;<br />\n<u><strong>Sponsorships</strong></u>\n\n<ul>\n	<li>Exclusive Event Sponsor - $1\,500\n	<ul>\n		<li>Includes: VIP Seating\, Table of 6 &amp\; Recognition</li>\n	</ul>\n	</li>\n	<li>Stage Speaker Sponsor - $1\,000\n	<ul>\n		<li>Includes: Table of 6 &amp\; Recognition</li>\n	</ul>\n	</li>\n	<li>Breakout Speaker Sponsor - $500\n	<ul>\n		<li>Incudes: 4 Tickets &amp\; Recognition</li>\n	</ul>\n	</li>\n	<li>Panel&nbsp\;Sponsor - $500 -&nbsp\;<strong>SOLD OUT</strong>\n	<ul>\n		<li>Incudes: 4 Tickets &amp\; Recognition</li>\n	</ul>\n	</li>\n	<li>Lunch Sponsor - $400\n	<ul>\n		<li>Includes: 2 Tickets &amp\; Recognition</li>\n	</ul>\n	</li>\n	<li>Decoration Sponsor - $250\n	<ul>\n		<li>Includes: 2 Tickets &amp\; Recognition</li>\n	</ul>\n	</li>\n	<li>Breakfast Sponsor - $300\n	<ul>\n		<li>Includes: 2 Tickets &amp\; Recognition</li>\n	</ul>\n	</li>\n	<li>Triad Student Sponsor - $250\n	<ul>\n		<li>Includes: 4 Tickets for Students &amp\; Recognition</li>\n	</ul>\n	</li>\n	<li>Promotional Product Sponsor - $200 -&nbsp\;<strong>SOLD OUT</strong>\n	<ul>\n		<li>Includes: Recognition</li>\n	</ul>\n	</li>\n	<li>Dessert Sponsor - $150 - <strong>SOLD OUT</strong>\n	<ul>\n		<li>Recognition</li>\n	</ul>\n	</li>\n	<li>Snack Break Sponsor - $150\n	<ul>\n		<li>Recognition</li>\n	</ul>\n	</li>\n</ul>\n
LOCATION:The Outlet Event Center 2477 S. State Route 157 Edwardsville\, IL 62025
UID:e.3456.8018
SEQUENCE:3
DTSTAMP:20260420T120751Z
URL:https://www.troymaryvillecoc.com/events/details/2025-women-s-conference-see-the-signs-be-the-change-8018
END:VEVENT

END:VCALENDAR
