BEGIN:VCALENDAR
VERSION:2.0
PRODID:-//ChamberMaster//Event Calendar 2.0//EN
METHOD:PUBLISH
X-PUBLISHED-TTL:P3D
REFRESH-INTERVAL:P3D
CALSCALE:GREGORIAN
BEGIN:VEVENT
DTSTART:20250905T180000Z
DTEND:20250906T000000Z
X-MICROSOFT-CDO-ALLDAYEVENT:FALSE
SUMMARY:33rd Annual Golf Classic
DESCRIPTION:St. John Neumann's Annual Golf Classic is a four-person team scramble held annually at Spencer T. Olin Golf Course in Alton\, Illinois   an exquisite setting in the 750 acre Gordon F. Moore Community Park.  The tournament is one of the largest fundraisers the school has each year\, having raised thousands of dollars for Catholic education. We invite you to join us as we tee one up for the kids at St. John Neumann Catholic School   an event that\, year after year\, supports spiritual growth and academic excellence for our young Crusaders.  This fun event includes lunch\, on course refreshments\, dinner\, and more!
X-ALT-DESC;FMTTYPE=text/html:St. John Neumann&rsquo\;s Annual Golf Classic is a four-person team scramble held annually at Spencer T. Olin Golf Course in Alton\, Illinois &mdash\; an exquisite setting in the 750 acre Gordon F. Moore Community Park.&nbsp\; The tournament is one of the largest fundraisers the school has each year\, having raised thousands of dollars for Catholic education. We invite you to join us as we tee one up for the kids at St. John Neumann Catholic School &mdash\; an event that\, year after year\, supports spiritual growth and academic excellence for our young Crusaders.&nbsp\; This fun event includes lunch\, on course refreshments\, dinner\, and more!&nbsp\;&nbsp\;
LOCATION:Spencer T. Olin Golf Course 4701 College Ave Alton\, IL 62002
UID:e.3456.10449
SEQUENCE:3
DTSTAMP:20260420T170043Z
URL:https://www.troymaryvillecoc.com/events/details/33rd-annual-golf-classic-10449
END:VEVENT

END:VCALENDAR
