BEGIN:VCALENDAR
VERSION:2.0
PRODID:-//ChamberMaster//Event Calendar 2.0//EN
METHOD:PUBLISH
X-PUBLISHED-TTL:P3D
REFRESH-INTERVAL:P3D
CALSCALE:GREGORIAN
BEGIN:VEVENT
DTSTART:20250927T160000Z
DTEND:20250928T040000Z
X-MICROSOFT-CDO-ALLDAYEVENT:FALSE
SUMMARY:4th Annual Troy VFW Post 976 Oktoberfest
DESCRIPTION:Family friendly event with food and drink\, vendors\, free bounce houses\, free face painting and activities\, Weiner Dog derby\, Stein Hoisting competition\, barrel toss\, and more! The Wurst Bavarian Band will be playing form 3-6pm and The Cheers Band will be playing from 7-11pm! All proceeds from this year's event will go to support clubs at Triad High School.
X-ALT-DESC;FMTTYPE=text/html:<span style="color: rgb(8\, 8\, 9)\; font-family: &quot\;Segoe UI Historic&quot\;\, &quot\;Segoe UI&quot\;\, Helvetica\, Arial\, sans-serif\; font-size: 14px\;">Family friendly event with food and drink\, vendors\, free bounce houses\, free face painting and activities\, Weiner Dog derby\, Stein Hoisting competition\, barrel toss\, and more! The Wurst Bavarian Band will be playing form 3-6pm and The Cheers Band will be playing from 7-11pm! All proceeds from this year&#39\;s event will go to support clubs at Triad High School.</span>
LOCATION:Tri-Township Park District
UID:e.3456.10453
SEQUENCE:3
DTSTAMP:20260420T184524Z
URL:https://www.troymaryvillecoc.com/events/details/4th-annual-troy-vfw-post-976-oktoberfest-10453
END:VEVENT

END:VCALENDAR
