BEGIN:VCALENDAR
VERSION:2.0
PRODID:-//ChamberMaster//Event Calendar 2.0//EN
METHOD:PUBLISH
X-PUBLISHED-TTL:P3D
REFRESH-INTERVAL:P3D
CALSCALE:GREGORIAN
BEGIN:VEVENT
DTSTART:20230922T113000Z
DTEND:20230924T040000Z
X-MICROSOFT-CDO-ALLDAYEVENT:FALSE
SUMMARY:9th Annual Hot Air Balloons Over Marine
DESCRIPTION:Great Family Event!
X-ALT-DESC;FMTTYPE=text/html:<br />\n<br />\n<u><strong>Great Family Event!</strong></u>
LOCATION:Marine Village Park 301 N. Humboldt Marine\, IL
UID:e.3456.4807
SEQUENCE:3
DTSTAMP:20260420T120627Z
URL:https://www.troymaryvillecoc.com/events/details/9th-annual-hot-air-balloons-over-marine-4807
END:VEVENT

END:VCALENDAR
