BEGIN:VCALENDAR
VERSION:2.0
PRODID:-//ChamberMaster//Event Calendar 2.0//EN
METHOD:PUBLISH
X-PUBLISHED-TTL:P3D
REFRESH-INTERVAL:P3D
CALSCALE:GREGORIAN
BEGIN:VEVENT
DTSTART:20250927T220000Z
DTEND:20250928T020000Z
X-MICROSOFT-CDO-ALLDAYEVENT:FALSE
SUMMARY:Abstracts & Titles INC Open House
DESCRIPTION:We're hosting an open house to mark this special milestone\, and we'd love for you to stop by! Come enjoy some delicious food\, raise a glass with us and toast to the journey so far - and what's ahead!
X-ALT-DESC;FMTTYPE=text/html:We&#39\;re hosting an open house to mark this special milestone\, and we&#39\;d love for you to stop by! Come enjoy some delicious food\, raise a glass with us and toast to the journey so far - and what&#39\;s ahead!
LOCATION:Leclaire Room N.O. Nelson Campus Edwardsville\, IL
UID:e.3456.10505
SEQUENCE:3
DTSTAMP:20260420T170438Z
URL:https://www.troymaryvillecoc.com/events/details/abstracts-titles-inc-open-house-10505
END:VEVENT

END:VCALENDAR
