BEGIN:VCALENDAR
VERSION:2.0
PRODID:-//ChamberMaster//Event Calendar 2.0//EN
METHOD:PUBLISH
X-PUBLISHED-TTL:P3D
REFRESH-INTERVAL:P3D
CALSCALE:GREGORIAN
BEGIN:VEVENT
DTSTART:20251018T220000Z
DTEND:20251019T010000Z
X-MICROSOFT-CDO-ALLDAYEVENT:FALSE
SUMMARY:Adventure Night: Monsters and Mysteries
DESCRIPTION:Come for a Spooktacular Time at Troy Park by the Petting Zoo.\n\n\n\nThere will be a Kids Costume as well as a Dog Costume Contest!\n\n\n\nHave a ball with our Bouncy House\, Face Painting\, Pumpkin Decorating\, FREE Candy\, Food & Drinks\, & Trunk or Treat!
X-ALT-DESC;FMTTYPE=text/html:Come for a Spooktacular Time at Troy Park by the Petting Zoo.<br />\n<br />\nThere will be a Kids Costume as well as a<em> Dog</em> Costume Contest!<br />\n<br />\nHave a ball with our Bouncy House\, Face Painting\, Pumpkin Decorating\, FREE Candy\, Food &amp\; Drinks\, &amp\; Trunk or Treat!
LOCATION:Troy Park by the Petting Zoo.
UID:e.3456.10190
SEQUENCE:3
DTSTAMP:20260420T170453Z
URL:https://www.troymaryvillecoc.com/events/details/adventure-night-monsters-and-mysteries-10190
END:VEVENT

END:VCALENDAR
