BEGIN:VCALENDAR
VERSION:2.0
PRODID:-//ChamberMaster//Event Calendar 2.0//EN
METHOD:PUBLISH
X-PUBLISHED-TTL:P3D
REFRESH-INTERVAL:P3D
CALSCALE:GREGORIAN
BEGIN:VEVENT
DTSTART:20250905T230000Z
DTEND:20250906T020000Z
X-MICROSOFT-CDO-ALLDAYEVENT:FALSE
SUMMARY:Beyond Freedom-celebrating 10 years of Eden's Glory
DESCRIPTION:Cocktails - 6:00 p.m.  --  Dinner - 7:00 p.m
X-ALT-DESC;FMTTYPE=text/html:<span style="color: rgb(136\, 136\, 136)\; font-family: Questrial\; font-size: 24px\; text-align: center\;">Cocktails - 6:00 p.m. &nbsp\;-- &nbsp\;Dinner - 7:00 p.m</span>
LOCATION:Loveland Estates 519 Stevenson Dr. Pocahontas\, IL
UID:e.3456.10448
SEQUENCE:3
DTSTAMP:20260420T170716Z
URL:https://www.troymaryvillecoc.com/events/details/beyond-freedom-celebrating-10-years-of-eden-s-glory-10448
END:VEVENT

END:VCALENDAR
