BEGIN:VCALENDAR
VERSION:2.0
PRODID:-//ChamberMaster//Event Calendar 2.0//EN
METHOD:PUBLISH
X-PUBLISHED-TTL:P3D
REFRESH-INTERVAL:P3D
CALSCALE:GREGORIAN
BEGIN:VEVENT
DTSTART:20250904T173000Z
DTEND:20250904T223000Z
X-MICROSOFT-CDO-ALLDAYEVENT:FALSE
SUMMARY:Blood Drive
DESCRIPTION:St. Jacob's Lion Club Blood Drive
X-ALT-DESC;FMTTYPE=text/html:St. Jacob&#39\;s Lion Club Blood Drive
LOCATION:108 N. Douglas Street Saint Jacob Illinois 62281
UID:e.3456.10468
SEQUENCE:3
DTSTAMP:20260420T183951Z
URL:https://www.troymaryvillecoc.com/events/details/blood-drive-10468
END:VEVENT

END:VCALENDAR
