BEGIN:VCALENDAR
VERSION:2.0
PRODID:-//ChamberMaster//Event Calendar 2.0//EN
METHOD:PUBLISH
X-PUBLISHED-TTL:P3D
REFRESH-INTERVAL:P3D
CALSCALE:GREGORIAN
BEGIN:VEVENT
DTSTART:20251106T183000Z
DTEND:20251106T233000Z
X-MICROSOFT-CDO-ALLDAYEVENT:FALSE
SUMMARY:Blood Drive - St. Jacob Lions Club
DESCRIPTION:Blood  Drive  St. Jacob Lions Club\n\nCome to give blood Oct. 20-Nov. 16 for a $10 e-gift card\n\n+ chance at $SK prize! rcblood.org/harvest
X-ALT-DESC;FMTTYPE=text/html:<strong><span style="font-size:20px\;"><span style="color:#F43D44\;">Blood&nbsp\; Drive&nbsp\; </span><span style="color:#738591\;">St. Jacob Lions Club</span></span><br />\n<span style="font-size:16px\;"><span style="color:#77828A\;"><span style="font-family:verdana\,sans-serif\;">Come to give blood Oct.</span></span></span></strong><span style="font-size:16px\;"> <strong><span style="color:#77828A\;"><span style="font-family:verdana\,sans-serif\;">20-Nov. 16 for a $10 e-gift <span style="letter-spacing:-.2pt\;">card</span></span></span></strong><br />\n<strong><span style="color:#77828A\;"><span style="font-family:verdana\,sans-serif\;">+</span></span></strong> <strong><span style="color:#77828A\;"><span style="font-family:verdana\,sans-serif\;">chance at $SK prize!<span style="letter-spacing:-.1pt\;"> rcblood.org/harvest</span></span></span></strong></span><br />\n&nbsp\;
LOCATION:St. Jacob Activity Center 108 N. Douglas Saint Jacob\, IL 62281
UID:e.3456.10515
SEQUENCE:3
DTSTAMP:20260420T134501Z
URL:https://www.troymaryvillecoc.com/events/details/blood-drive-st-jacob-lions-club-10515
END:VEVENT

END:VCALENDAR
