BEGIN:VCALENDAR
VERSION:2.0
PRODID:-//ChamberMaster//Event Calendar 2.0//EN
METHOD:PUBLISH
X-PUBLISHED-TTL:P3D
REFRESH-INTERVAL:P3D
CALSCALE:GREGORIAN
BEGIN:VEVENT
DTSTART:20251021T130000Z
DTEND:20251021T143000Z
X-MICROSOFT-CDO-ALLDAYEVENT:FALSE
SUMMARY:Board Meeting
DESCRIPTION:
X-ALT-DESC;FMTTYPE=text/html:
LOCATION:Beckemeier LeMoine Law Office 408 US-40\, Suite 201 Troy\, IL 62294
UID:e.3456.10128
SEQUENCE:3
DTSTAMP:20260420T170005Z
URL:https://www.troymaryvillecoc.com/events/details/board-meeting-10128
END:VEVENT

END:VCALENDAR
