BEGIN:VCALENDAR
VERSION:2.0
PRODID:-//ChamberMaster//Event Calendar 2.0//EN
METHOD:PUBLISH
X-PUBLISHED-TTL:P3D
REFRESH-INTERVAL:P3D
CALSCALE:GREGORIAN
BEGIN:VEVENT
DTSTART:20251207T200000Z
DTEND:20251207T220000Z
X-MICROSOFT-CDO-ALLDAYEVENT:FALSE
SUMMARY:Bobby's Santa Fest
DESCRIPTION:Kids Day
X-ALT-DESC;FMTTYPE=text/html:Kids Day
LOCATION:2525 N Center St. Maryville\, IL 62062
UID:e.3456.10206
SEQUENCE:3
DTSTAMP:20260420T103017Z
URL:https://www.troymaryvillecoc.com/events/details/bobby-s-santa-fest-10206
END:VEVENT

END:VCALENDAR
