BEGIN:VCALENDAR
VERSION:2.0
PRODID:-//ChamberMaster//Event Calendar 2.0//EN
METHOD:PUBLISH
X-PUBLISHED-TTL:P3D
REFRESH-INTERVAL:P3D
CALSCALE:GREGORIAN
BEGIN:VEVENT
DTSTART:20230916T140000Z
DTEND:20230916T170000Z
X-MICROSOFT-CDO-ALLDAYEVENT:FALSE
SUMMARY:Book Sale
DESCRIPTION:The Friends of the Tri-Township Library hold book sales to benefit the library. Sales consist of donated materials and items range in cost from ten cents to two dollars. \n\nQuestions:tritownship@gmail.com
X-ALT-DESC;FMTTYPE=text/html:<br />\nThe Friends of the Tri-Township Library hold book sales to benefit the library. Sales consist of donated materials and items range in cost from ten cents to two dollars.&nbsp\;<br />\nQuestions:tritownship@gmail.com
LOCATION:
UID:e.3456.5887
SEQUENCE:3
DTSTAMP:20260420T120502Z
URL:https://www.troymaryvillecoc.com/events/details/book-sale-09-16-2023-5887
END:VEVENT

END:VCALENDAR
