BEGIN:VCALENDAR
VERSION:2.0
PRODID:-//ChamberMaster//Event Calendar 2.0//EN
METHOD:PUBLISH
X-PUBLISHED-TTL:P3D
REFRESH-INTERVAL:P3D
CALSCALE:GREGORIAN
BEGIN:VEVENT
DTSTART;VALUE=DATE:20251122
DTEND;VALUE=DATE:20251123
TRANSP:TRANSPARENT
X-MICROSOFT-CDO-ALLDAYEVENT:TRUE
SUMMARY:Boy Scout Food Collection
DESCRIPTION:Boy Scouts will be collecting blue bags previously placed out for the annual Boy Scout food drive.
X-ALT-DESC;FMTTYPE=text/html:Boy Scouts will be collecting blue bags previously placed out for the annual Boy Scout food drive.&nbsp\;
LOCATION:
UID:e.3456.10526
SEQUENCE:3
DTSTAMP:20260420T120255Z
URL:https://www.troymaryvillecoc.com/events/details/boy-scout-food-collection-10526
END:VEVENT

END:VCALENDAR
