BEGIN:VCALENDAR
VERSION:2.0
PRODID:-//ChamberMaster//Event Calendar 2.0//EN
METHOD:PUBLISH
X-PUBLISHED-TTL:P3D
REFRESH-INTERVAL:P3D
CALSCALE:GREGORIAN
BEGIN:VEVENT
DTSTART:20250930T233000Z
DTEND:20251001T003000Z
X-MICROSOFT-CDO-ALLDAYEVENT:FALSE
SUMMARY:Building Unlimited Opportunities with Ministries Unlimited
DESCRIPTION:Join us for an informative talk on how Ministries Unlimited is helping families today and how they are working to build a new pantry. Come see how Ministries Unlimited is looking towards the future needs of our community and how they are working to become a sustainable resource to our residents.
X-ALT-DESC;FMTTYPE=text/html:<p class="p1" style="margin: 0px\; font-variant-numeric: normal\; font-variant-east-asian: normal\; font-variant-alternates: normal\; font-size-adjust: none\; font-kerning: auto\; font-optical-sizing: auto\; font-feature-settings: normal\; font-variation-settings: normal\; font-variant-position: normal\; font-variant-emoji: normal\; font-stretch: normal\; font-size: 12px\; line-height: normal\; font-family: Helvetica\; color: rgb(0\, 0\, 0)\;">Join us for an informative talk on how Ministries Unlimited is helping families today and how they are working to build a new pantry. Come see how Ministries Unlimited is looking towards the future needs of our community and how they are working to become a sustainable resource to our residents.</p>\n
LOCATION:Tri-Township Library
UID:e.3456.10484
SEQUENCE:3
DTSTAMP:20260420T170846Z
URL:https://www.troymaryvillecoc.com/events/details/building-unlimited-opportunities-with-ministries-unlimited-10484
END:VEVENT

END:VCALENDAR
