BEGIN:VCALENDAR
VERSION:2.0
PRODID:-//ChamberMaster//Event Calendar 2.0//EN
METHOD:PUBLISH
X-PUBLISHED-TTL:P3D
REFRESH-INTERVAL:P3D
CALSCALE:GREGORIAN
BEGIN:VEVENT
DTSTART:20230929T163000Z
DTEND:20230929T180000Z
X-MICROSOFT-CDO-ALLDAYEVENT:FALSE
SUMMARY:Burnout- How to Spot it and How to Stop it.
DESCRIPTION:Tasha Shannon\, LCPC\, is presenting on Burnout- How to Spot It & Stop it.  This is also a 1 CEU Opportunity.\n\n\n\nBring your favorite lunch\, learn about recognizing and preventing burnout\, and connect with others in our community.\n\n\n\nThis event is open to the public\, with limited spots available.  RSVP REQUIRED.  In Person Only at our Troy North Location.\n\n\n\nIf you are unable to attend\, please feel free to email Melissa to request a complimentary Mental Health Presentation for your organization at tinsmanm@counselorsassociates.com.
X-ALT-DESC;FMTTYPE=text/html:<p><span style="font-size:12px"><span style="font-family:arial\,helvetica\,sans-serif">Tasha Shannon\, LCPC\, is presenting on Burnout- How to Spot It &amp\; Stop it.&nbsp\; This is also a 1 CEU Opportunity.<br />\n<br />\nBring your favorite lunch\, learn about recognizing and preventing burnout\, and connect with others in our community.</span></span><br />\n<br />\n<span style="font-family:arial\,helvetica\,sans-serif\; font-size:12px">This event is open to the public\, with limited spots available.&nbsp\; RSVP REQUIRED.&nbsp\; In Person Only at our Troy North Location.<br />\n<br />\nIf you are unable to attend\, please feel free to email Melissa to request a complimentary Mental Health Presentation for your organization at tinsmanm@counselorsassociates.com.</span></p>\n<br />\n&nbsp\;
LOCATION:Counselors Associates Ltd- Troy North Location 7348 State Route 162 Troy\, IL 62294
UID:e.3456.7146
SEQUENCE:3
DTSTAMP:20260420T120504Z
URL:https://www.troymaryvillecoc.com/events/details/burnout-how-to-spot-it-and-how-to-stop-it-7146
END:VEVENT

END:VCALENDAR
