BEGIN:VCALENDAR
VERSION:2.0
PRODID:-//ChamberMaster//Event Calendar 2.0//EN
METHOD:PUBLISH
X-PUBLISHED-TTL:P3D
REFRESH-INTERVAL:P3D
CALSCALE:GREGORIAN
BEGIN:VEVENT
DTSTART:20251015T133000Z
DTEND:20251015T150000Z
X-MICROSOFT-CDO-ALLDAYEVENT:FALSE
SUMMARY:Business Before Breakfast at Brightly Senior Living
DESCRIPTION:Join us for a speaker\, light breakfast & networking!\n\n\n\nSpeaker: Summer Vanderbilt\, HireLevel \nTopic: Employment Law Updates\n\n\n\nWhat will be Covered:\n\n\n	Paid Leave Laws: Learn how new metro-area laws impact your workforce and compliance requirements.\n	Illinois E-Verify: Understand new hiring rules tied to E-Verify.\n	I-9 Compliance: Stay current on employee eligibility rules to avoid fines.\n	Secure Choice Program: See how Illinois' new retirement plan affects your business and what steps to take.
X-ALT-DESC;FMTTYPE=text/html:<br />\n<strong><em>Join us for a speaker\, light breakfast &amp\; networking!</em></strong><br />\n<br />\nSpeaker: Summer Vanderbilt\, HireLevel&nbsp\;\n<div>Topic: Employment Law Updates<br />\n<br />\n<strong><u>What will be Covered:</u></strong></div>\n\n<ul>\n	<li><strong>Paid Leave Laws:</strong> Learn how new metro-area laws impact your workforce and compliance requirements.</li>\n	<li><strong>Illinois E-Verify:</strong> Understand new hiring rules tied to E-Verify.</li>\n	<li><strong>I-9 Compliance: </strong>Stay current on employee eligibility rules to avoid fines.</li>\n	<li>Secure Choice Program: See how Illinois&rsquo\; new retirement plan affects your business and what steps to take.</li>\n</ul>\n
LOCATION:Brightly Senior Living - Activity Room 200 Brightly Way Glen Carbon\, IL 62034
UID:e.3456.10129
SEQUENCE:3
DTSTAMP:20260420T170902Z
URL:https://www.troymaryvillecoc.com/events/details/business-before-breakfast-at-brightly-senior-living-10-15-2025-10129
END:VEVENT

END:VCALENDAR
