BEGIN:VCALENDAR
VERSION:2.0
PRODID:-//ChamberMaster//Event Calendar 2.0//EN
METHOD:PUBLISH
X-PUBLISHED-TTL:P3D
REFRESH-INTERVAL:P3D
CALSCALE:GREGORIAN
BEGIN:VEVENT
DTSTART:20250917T133000Z
DTEND:20250917T150000Z
X-MICROSOFT-CDO-ALLDAYEVENT:FALSE
SUMMARY:Business Before Breakfast at Tri-Township Public Library
DESCRIPTION:Business Before Breakfast (BBB) is the third Wednesday of each month (excluding holidays) from 8:30am to 10:00am. There is a speaker at every BBB that will give you information that you can take back to your business. Time is set aside for networking and building relationships. A light breakfast and refreshments is served. This event is FREE and open to all chamber members!\n\n\n\nSpeakers: Dawn Mushill & Emily Gretak\n\nTopic: 50 Ways to Market Your Business\n\n\n\nFeaturing:\n\nSpectrum Reach\n\nNew Adventure Web Design & Digital Marketing
X-ALT-DESC;FMTTYPE=text/html:Business Before Breakfast (BBB) is the third Wednesday of each month (excluding holidays) from 8:30am to 10:00am. There is a speaker at every BBB that will give you information that you can take back to your business. Time is set aside for networking and building relationships. A light breakfast and refreshments is served. This event is FREE and open to all chamber members!<br />\n<br />\nSpeakers: Dawn Mushill &amp\; Emily Gretak<br />\nTopic: 50 Ways to Market Your Business<br />\n<br />\n<strong>Featuring:</strong><br />\nSpectrum Reach<br />\nNew Adventure Web Design &amp\; Digital Marketing
LOCATION:Tri-Township Public Library District 209 S. Main Street Troy\, IL 62294
UID:e.3456.10122
SEQUENCE:3
DTSTAMP:20260420T170333Z
URL:https://www.troymaryvillecoc.com/events/details/business-before-breakfast-at-tri-township-public-library-10122
END:VEVENT

END:VCALENDAR
