BEGIN:VCALENDAR
VERSION:2.0
PRODID:-//ChamberMaster//Event Calendar 2.0//EN
METHOD:PUBLISH
X-PUBLISHED-TTL:P3D
REFRESH-INTERVAL:P3D
CALSCALE:GREGORIAN
BEGIN:VEVENT
DTSTART:20230913T233000Z
DTEND:20230914T003000Z
X-MICROSOFT-CDO-ALLDAYEVENT:FALSE
SUMMARY:Caucus Meeting
DESCRIPTION:Caucus Meetings are held the second\, fourth and fifth Wednesday of each month. Discussion and debate is held regarding pertinent issues\; no action or votes are taken.
X-ALT-DESC;FMTTYPE=text/html:<br />\nCaucus Meetings are held the second\, fourth and fifth Wednesday of each month. Discussion and debate is held regarding pertinent issues\; no action or votes are taken.&nbsp\;
LOCATION:Village Hall 2520 N. Center Street. Maryville\, IL 62062
UID:e.3456.6343
SEQUENCE:3
DTSTAMP:20260420T120036Z
URL:https://www.troymaryvillecoc.com/events/details/caucus-meeting-6343
END:VEVENT

END:VCALENDAR
