BEGIN:VCALENDAR
VERSION:2.0
PRODID:-//ChamberMaster//Event Calendar 2.0//EN
METHOD:PUBLISH
X-PUBLISHED-TTL:P3D
REFRESH-INTERVAL:P3D
CALSCALE:GREGORIAN
BEGIN:VEVENT
DTSTART:20251202T173000Z
DTEND:20251202T190000Z
X-MICROSOFT-CDO-ALLDAYEVENT:FALSE
SUMMARY:Chamber Holiday Luncheon at The Outlet Event Center
DESCRIPTION:Wear your festive attire and come celebrate the Holiday's with us!\n\n\n\nMenu: Pizza\, Toasted Ravioli\, Pasta in White Sauce & Salad\n\n	Help us spread some holiday cheer! We'll be collecting Toys for Tots donations during our Holiday Luncheon   please bring a new\, unwrapped toy to share the joy this season. \n	\n		Gifts for Ages 8 - 12 are Always Needed\n	\n	\n	Attendance prizes given out!\n\n  Let's come together\, celebrate\, and spread the warmth of the holidays to those around us.
X-ALT-DESC;FMTTYPE=text/html:<br />\n<br />\n<span style="font-family:arial\;"><span style="font-size:20px\;">Wear your festive attire and come celebrate the Holiday&#39\;s with us!</span></span><br />\n<br />\n<strong style="font-family: arial\; font-size: 16px\;"><span style="font-size: 18px\;"><u>Menu:</u>&nbsp\;Pizza\, Toasted Ravioli\, Pasta in White Sauce &amp\; Salad</span></strong>\n<ul>\n	<li><span style="font-family:arial\;"><span style="font-size:16px\;">Help us spread some holiday cheer! <strong>We&rsquo\;ll be collecting Toys for Tots donations during our Holiday Luncheon</strong> &mdash\; please bring a new\, unwrapped toy to share the joy this season. </span></span>\n	<ul>\n		<li><span style="font-family:arial\;"><span style="font-size:16px\;">Gifts for&nbsp\;Ages 8 - 12 are Always Needed</span></span></li>\n	</ul>\n	</li>\n	<li><span style="font-family: arial\;"><span style="font-size: 16px\;">Attendance prizes given out!</span></span></li>\n</ul>\n<span style="font-family:arial\;"> </span><span style="font-family:verdana\;"><span style="font-family:arial\;"> <span style="font-size:20px\;"><span style="color: rgb(64\, 63\, 66)\; font-style: italic\; font-weight: 700\; text-align: center\; white-space-collapse: preserve\;">Let&#39\;s come together\, celebrate\, and spread the warmth of the holidays to those around us.</span></span></span></span><br />\n<br />\n&nbsp\;
LOCATION:The Outlet at Edison's 2477 S. State Route 157 Edwardsville\, IL 62025
UID:e.3456.10077
SEQUENCE:3
DTSTAMP:20260420T102714Z
URL:https://www.troymaryvillecoc.com/events/details/chamber-holiday-luncheon-at-the-outlet-event-center-10077
END:VEVENT

END:VCALENDAR
