BEGIN:VCALENDAR
VERSION:2.0
PRODID:-//ChamberMaster//Event Calendar 2.0//EN
METHOD:PUBLISH
X-PUBLISHED-TTL:P3D
REFRESH-INTERVAL:P3D
CALSCALE:GREGORIAN
BEGIN:VEVENT
DTSTART:20260611T133000Z
DTEND:20260611T150000Z
X-MICROSOFT-CDO-ALLDAYEVENT:FALSE
SUMMARY:Chamber Social
DESCRIPTION:Troy Family Restaurant\n\n307 Bargraves Blvd\, Troy\, IL 62294
X-ALT-DESC;FMTTYPE=text/html:Troy Family Restaurant<br />\n307 Bargraves Blvd\, Troy\, IL 62294
LOCATION:
UID:e.3456.10719
SEQUENCE:3
DTSTAMP:20260421T171940Z
URL:https://www.troymaryvillecoc.com/events/details/chamber-social-10719
END:VEVENT

END:VCALENDAR
