BEGIN:VCALENDAR
VERSION:2.0
PRODID:-//ChamberMaster//Event Calendar 2.0//EN
METHOD:PUBLISH
X-PUBLISHED-TTL:P3D
REFRESH-INTERVAL:P3D
CALSCALE:GREGORIAN
BEGIN:VEVENT
DTSTART:20251009T133000Z
DTEND:20251009T150000Z
X-MICROSOFT-CDO-ALLDAYEVENT:FALSE
SUMMARY:Chamber Social at Troy Family Restaurant
DESCRIPTION:Chamber Socials: Start Your Day with Great People & Great Conversations!\nThis month\, we're meeting at Troy Family Restaurant so grab your favorites and join us!\n\nChamber Socials are your chance to kick off the morning in a relaxed\, welcoming atmosphere perfect for making connections that count.\nHosted by our Lead Ambassador\, Mark VanZeyl of Bullseye Promotions\, these breakfast meetups mix casual networking with meaningful conversations. Enjoy your morning meal (purchased individually) while Mark jump-starts the discussion with thought-provoking topics and fun conversation starters.\n\n\n\nIt's a simple\, friendly way to share ideas\, grow relationships\, and get inspired before the workday begins!
X-ALT-DESC;FMTTYPE=text/html:<br />\n&#9749\;<strong>&nbsp\;Chamber Socials: Start Your Day with Great People &amp\; Great Conversations!</strong>\n<p data-end="245" data-start="154">This month\, we&rsquo\;re meeting at&nbsp\;<strong data-end="201" data-start="183">Troy Family Restaurant</strong>&mdash\;so grab your favorites&nbsp\;and join us!</p>\n\n<p data-end="382" data-start="247">Chamber Socials are your chance to kick off the morning in a relaxed\, welcoming atmosphere&mdash\;perfect for making connections that count.</p>\nHosted by our Lead Ambassador\, Mark VanZeyl of Bullseye Promotions\, these breakfast meetups mix casual networking with meaningful conversations. Enjoy your morning meal (purchased individually) while Mark jump-starts the discussion with thought-provoking topics and fun conversation starters.<br />\n<br />\nIt&rsquo\;s a simple\, friendly way to share ideas\, grow relationships\, and get inspired before the workday begins!
LOCATION:Troy Family Restaurant 307 Bargraves Blvd Troy\, IL 62294
UID:e.3456.10127
SEQUENCE:3
DTSTAMP:20260420T154332Z
URL:https://www.troymaryvillecoc.com/events/details/chamber-social-at-troy-family-restaurant-10-09-2025-10127
END:VEVENT

END:VCALENDAR
