BEGIN:VCALENDAR
VERSION:2.0
PRODID:-//ChamberMaster//Event Calendar 2.0//EN
METHOD:PUBLISH
X-PUBLISHED-TTL:P3D
REFRESH-INTERVAL:P3D
CALSCALE:GREGORIAN
BEGIN:VEVENT
DTSTART:20230907T150000Z
DTEND:20230907T160000Z
X-MICROSOFT-CDO-ALLDAYEVENT:FALSE
SUMMARY:Children's Play Group
DESCRIPTION:Thursday morning from 10-11 AM join us for a fun social time for young ones ages 0-5. We will do 20 minutes of music and rhymes and then 40 minutes of age appropriate centers. This is a great place for children and caregivers to meet new friends. \n\nQuestions:tritownship@gmail.com
X-ALT-DESC;FMTTYPE=text/html:<br />\nThursday morning from 10-11 AM join us for a fun social time for young ones ages 0-5. We will do 20 minutes of music and rhymes and then 40 minutes of age appropriate centers. This is a great place for children and caregivers to meet new friends.&nbsp\;<br />\nQuestions:tritownship@gmail.com
LOCATION:
UID:e.3456.5876
SEQUENCE:3
DTSTAMP:20260420T120448Z
URL:https://www.troymaryvillecoc.com/events/details/children-s-play-group-09-07-2023-5876
END:VEVENT

END:VCALENDAR
