BEGIN:VCALENDAR
VERSION:2.0
PRODID:-//ChamberMaster//Event Calendar 2.0//EN
METHOD:PUBLISH
X-PUBLISHED-TTL:P3D
REFRESH-INTERVAL:P3D
CALSCALE:GREGORIAN
BEGIN:VEVENT
DTSTART:20230927T150000Z
DTEND:20230927T170000Z
X-MICROSOFT-CDO-ALLDAYEVENT:FALSE
SUMMARY:Classic Friedens Friends
DESCRIPTION:On the fourth Wednesday of each month Friedens Troy will have a day designed specifically for our Classic Friedens Friends (Adults who are retired\, semi-retired\, etc.)!\n\n\n\nThe day will include some stretching / chair yoga\, a devotional time to set goals for the year\, lunch & a movie. Feel free to come for part or all of this day. No prior knowledge or experience needed to participate\, al are welcome!
X-ALT-DESC;FMTTYPE=text/html:<br />\nOn the fourth Wednesday of each month Friedens Troy will have a day designed specifically for our Classic Friedens Friends (Adults who are retired\, semi-retired\, etc.)!<br />\n<br />\nThe day will include some stretching / chair yoga\, a devotional time to set goals for the year\, lunch &amp\; a movie. Feel free to come for part or all of this day. No prior knowledge or experience needed to participate\, al are welcome!
LOCATION:Friedens United Church of Christ 207 E. Center St. Troy\, IL 62294
UID:e.3456.4490
SEQUENCE:3
DTSTAMP:20260420T120431Z
URL:https://www.troymaryvillecoc.com/events/details/classic-friedens-friends-09-27-2023-4490
END:VEVENT

END:VCALENDAR
