BEGIN:VCALENDAR
VERSION:2.0
PRODID:-//ChamberMaster//Event Calendar 2.0//EN
METHOD:PUBLISH
X-PUBLISHED-TTL:P3D
REFRESH-INTERVAL:P3D
CALSCALE:GREGORIAN
BEGIN:VEVENT
DTSTART:20251121T230000Z
DTEND:20251122T050000Z
X-MICROSOFT-CDO-ALLDAYEVENT:FALSE
SUMMARY:CMC Rotary Pints for Polio
DESCRIPTION:
X-ALT-DESC;FMTTYPE=text/html:
LOCATION:Old Herald Brewery & Distillery 115 E. Clay Street Collinsville IL\, 62294
UID:e.3456.10011
SEQUENCE:3
DTSTAMP:20260420T102128Z
URL:https://www.troymaryvillecoc.com/events/details/cmc-rotary-pints-for-polio-10011
END:VEVENT

END:VCALENDAR
