BEGIN:VCALENDAR
VERSION:2.0
PRODID:-//ChamberMaster//Event Calendar 2.0//EN
METHOD:PUBLISH
X-PUBLISHED-TTL:P3D
REFRESH-INTERVAL:P3D
CALSCALE:GREGORIAN
BEGIN:VEVENT
DTSTART:20251031T131500Z
DTEND:20251031T135000Z
X-MICROSOFT-CDO-ALLDAYEVENT:FALSE
SUMMARY:Coffee & Conversations: Strengthening Member Ties
DESCRIPTION:Start your Friday with us at Coffee & Conversations\, hosted by our Chamber Ambassadors! This laid-back morning meetup is all about genuine connections no agendas\, no presentations\, just friendly conversation over coffee. Whether you've been part of the Chamber for years or are brand new\, it's the perfect way to meet new people\, grow relationships\, and kick off your day on a positive note.
X-ALT-DESC;FMTTYPE=text/html:<br />\nStart your Friday with us at <strong data-end="98" data-start="72">Coffee &amp\; Conversations</strong>\, hosted by our Chamber Ambassadors! This laid-back morning meetup is all about genuine connections&mdash\;no agendas\, no presentations\, just friendly conversation over coffee. Whether you&rsquo\;ve been part of the Chamber for years or are brand new\, it&rsquo\;s the perfect way to meet new people\, grow relationships\, and kick off your day on a positive note.
LOCATION:Jan's Naturals 2929 N Center Street Maryville\, IL 62062
UID:e.3456.10514
SEQUENCE:3
DTSTAMP:20260420T151719Z
URL:https://www.troymaryvillecoc.com/events/details/coffee-conversations-strengthening-member-ties-10514
END:VEVENT

END:VCALENDAR
