BEGIN:VCALENDAR
VERSION:2.0
PRODID:-//ChamberMaster//Event Calendar 2.0//EN
METHOD:PUBLISH
X-PUBLISHED-TTL:P3D
REFRESH-INTERVAL:P3D
CALSCALE:GREGORIAN
BEGIN:VEVENT
DTSTART:20250930T190000Z
DTEND:20250930T230000Z
X-MICROSOFT-CDO-ALLDAYEVENT:FALSE
SUMMARY:College Day at the Races - Fairmount Park
DESCRIPTION:Fairmount Park is hosting College Day at the Races! Any college student who fills out a ticket and is able to show a valid college ID will be entered to win one of our prizes. We will call winners every race. Our prizes include 3 sets of airpods\, 2 Macbook Airs\, and 2-$1\,000 Scholarships. Come enjoy a day at the races!
X-ALT-DESC;FMTTYPE=text/html:Fairmount Park is hosting College Day at the Races! Any college student who fills out a ticket and is able to show a valid college ID will be entered to win one of our prizes. We will call winners every race. Our prizes include 3 sets of airpods\, 2 Macbook Airs\, and 2-$1\,000 Scholarships.&nbsp\;Come enjoy a day at the races!
LOCATION:Fairmount Park - 9301 Collinsville Rd\, Collinsville\, IL 62234
UID:e.3456.10486
SEQUENCE:3
DTSTAMP:20260420T170751Z
URL:https://www.troymaryvillecoc.com/events/details/college-day-at-the-races-fairmount-park-10486
END:VEVENT

END:VCALENDAR
