BEGIN:VCALENDAR
VERSION:2.0
PRODID:-//ChamberMaster//Event Calendar 2.0//EN
METHOD:PUBLISH
X-PUBLISHED-TTL:P3D
REFRESH-INTERVAL:P3D
CALSCALE:GREGORIAN
BEGIN:VEVENT
DTSTART:20230912T000000Z
DTEND:20230912T010000Z
X-MICROSOFT-CDO-ALLDAYEVENT:FALSE
SUMMARY:Community Improvement Board Meeting
DESCRIPTION:
X-ALT-DESC;FMTTYPE=text/html:
LOCATION:Village Hall 2520 N. Center Street Maryville\, IL 62062
UID:e.3456.6342
SEQUENCE:3
DTSTAMP:20260420T120202Z
URL:https://www.troymaryvillecoc.com/events/details/community-improvement-board-meeting-6342
END:VEVENT

END:VCALENDAR
