BEGIN:VCALENDAR
VERSION:2.0
PRODID:-//ChamberMaster//Event Calendar 2.0//EN
METHOD:PUBLISH
X-PUBLISHED-TTL:P3D
REFRESH-INTERVAL:P3D
CALSCALE:GREGORIAN
BEGIN:VEVENT
DTSTART:20230924T000000Z
DTEND:20230924T013000Z
X-MICROSOFT-CDO-ALLDAYEVENT:FALSE
SUMMARY:Concert in the Park - RiverBend - Dueling Pianos
DESCRIPTION:
X-ALT-DESC;FMTTYPE=text/html:
LOCATION:Firemen's Park 300 North Donk Avenue Maryville\, IL 62062
UID:e.3456.6348
SEQUENCE:3
DTSTAMP:20260420T120752Z
URL:https://www.troymaryvillecoc.com/events/details/concert-in-the-park-riverbend-dueling-pianos-6348
END:VEVENT

END:VCALENDAR
