BEGIN:VCALENDAR
VERSION:2.0
PRODID:-//ChamberMaster//Event Calendar 2.0//EN
METHOD:PUBLISH
X-PUBLISHED-TTL:P3D
REFRESH-INTERVAL:P3D
CALSCALE:GREGORIAN
BEGIN:VEVENT
DTSTART:20251108T130000Z
DTEND:20251108T220000Z
X-MICROSOFT-CDO-ALLDAYEVENT:FALSE
SUMMARY:Craft Fair
DESCRIPTION:Tri-Township Park \n\nHoliday and Harvest
X-ALT-DESC;FMTTYPE=text/html:Tri-Township Park&nbsp\;<br />\nHoliday and Harvest&nbsp\;
LOCATION:284 Riggin Rd. Troy\, IL 62294
UID:e.3456.10507
SEQUENCE:3
DTSTAMP:20260420T120038Z
URL:https://www.troymaryvillecoc.com/events/details/craft-fair-10507
END:VEVENT

END:VCALENDAR
