BEGIN:VCALENDAR
VERSION:2.0
PRODID:-//ChamberMaster//Event Calendar 2.0//EN
METHOD:PUBLISH
X-PUBLISHED-TTL:P3D
REFRESH-INTERVAL:P3D
CALSCALE:GREGORIAN
BEGIN:VEVENT
DTSTART:20260912T150000Z
DTEND:20260912T200000Z
X-MICROSOFT-CDO-ALLDAYEVENT:FALSE
SUMMARY:Craft & Vendor Fair
DESCRIPTION:Craft & Vendor Fair\n\nShop Local
X-ALT-DESC;FMTTYPE=text/html:Craft &amp\; Vendor Fair<br />\nShop Local
LOCATION:Grounds of Anderson Hospital 6800 St Route 162\, Maryville\, IL 62062
UID:e.3456.10802
SEQUENCE:3
DTSTAMP:20260421T090503Z
URL:https://www.troymaryvillecoc.com/events/details/craft-vendor-fair-10802
END:VEVENT

END:VCALENDAR
