BEGIN:VCALENDAR
VERSION:2.0
PRODID:-//ChamberMaster//Event Calendar 2.0//EN
METHOD:PUBLISH
X-PUBLISHED-TTL:P3D
REFRESH-INTERVAL:P3D
CALSCALE:GREGORIAN
BEGIN:VEVENT
DTSTART:20260602T163000Z
DTEND:20260602T180000Z
X-MICROSOFT-CDO-ALLDAYEVENT:FALSE
SUMMARY:Creating Business Connections
DESCRIPTION:Creating Business Connections (CBC) is the first Tuesday of each month (excluding holidays) from 12:00pm to 1:00pm. This event is an opportunity to enjoy lunch\, network and build relationships. The fee ($15 pre-register or $18 at the door) includes lunch and a drink. Join us at Tri-Township Park - Pavilion 10 this month!\n\n\n\nMenu: TBA\n\n\n\nAttendance prizes will be given out!\n\n\n\nInterested in joining the TMSM Chamber of Commerce? You can attend one month of events before joining!
X-ALT-DESC;FMTTYPE=text/html:Creating Business Connections (CBC) is the first Tuesday of each month (excluding holidays) from 12:00pm to 1:00pm. This event is an opportunity to enjoy lunch\, network and build relationships. The fee ($15 pre-register or $18 at the door) includes lunch and a drink. Join us at&nbsp\;<strong>Tri-Township Park - Pavilion 10&nbsp\;</strong>this month!<br />\n<br />\n<strong>Menu:</strong>&nbsp\;TBA<br />\n<br />\nAttendance prizes will be given out!<br />\n<br />\n<em>Interested in joining the TMSM Chamber of Commerce? You can attend one month of events before joining!</em>
LOCATION:Tri-Township Park 420 Wickliffe St Troy\, IL 62294
UID:e.3456.10717
SEQUENCE:3
DTSTAMP:20260421T171142Z
URL:https://www.troymaryvillecoc.com/events/details/creating-business-connections-10717
END:VEVENT

END:VCALENDAR
