BEGIN:VCALENDAR
VERSION:2.0
PRODID:-//ChamberMaster//Event Calendar 2.0//EN
METHOD:PUBLISH
X-PUBLISHED-TTL:P3D
REFRESH-INTERVAL:P3D
CALSCALE:GREGORIAN
BEGIN:VEVENT
DTSTART:20230905T163000Z
DTEND:20230905T180000Z
X-MICROSOFT-CDO-ALLDAYEVENT:FALSE
SUMMARY:Creating Business Connections at Boogies II
DESCRIPTION:Opportunity to enjoy lunch\, network and build relationships!
X-ALT-DESC;FMTTYPE=text/html:<br />\nOpportunity to enjoy lunch\, network and build relationships!<br />\n<br />\n&nbsp\;
LOCATION:Boogies II 2082 Vadalabene Dr. Maryville\, IL 62062
UID:e.3456.4865
SEQUENCE:3
DTSTAMP:20260420T120751Z
URL:https://www.troymaryvillecoc.com/events/details/creating-business-connections-at-boogies-ii-09-05-2023-4865
END:VEVENT

END:VCALENDAR
