BEGIN:VCALENDAR
VERSION:2.0
PRODID:-//ChamberMaster//Event Calendar 2.0//EN
METHOD:PUBLISH
X-PUBLISHED-TTL:P3D
REFRESH-INTERVAL:P3D
CALSCALE:GREGORIAN
BEGIN:VEVENT
DTSTART:20251104T173000Z
DTEND:20251104T190000Z
X-MICROSOFT-CDO-ALLDAYEVENT:FALSE
SUMMARY:Creating Business Connections at Boogies II
DESCRIPTION:Be Sure to Join Us for Our November Creating Business Connections for an Opportunity to Enjoy Great Food\, Network and Build Relationships!  Featuring a guest speaker from Greater St. Louis Inc.\n\n\n\nAttendees Will Receive Prizes!\n\n\n\nMenu: Broccoli Chicken Alfredo\, Salad & Garlic Bread
X-ALT-DESC;FMTTYPE=text/html:<span style="font-size:20px\;"><span style="font-family:arial\;">Be Sure to Join Us for Our November <em>Creating Business Connections</em> for an Opportunity to Enjoy Great Food\, Network and Build Relationships!&nbsp\; Featuring a guest speaker from Greater St. Louis Inc.<br />\n<br />\nAttendees Will Receive Prizes!<br />\n<br />\nMenu: Broccoli Chicken Alfredo\, Salad &amp\; Garlic Bread</span></span><br />\n<br />\n<br />\n&nbsp\;
LOCATION:Boogies II 2082 Vadalabene Drive Maryville\, IL 62062
UID:e.3456.10076
SEQUENCE:3
DTSTAMP:20260420T120725Z
URL:https://www.troymaryvillecoc.com/events/details/creating-business-connections-at-boogies-ii-11-04-2025-10076
END:VEVENT

END:VCALENDAR
