BEGIN:VCALENDAR
VERSION:2.0
PRODID:-//ChamberMaster//Event Calendar 2.0//EN
METHOD:PUBLISH
X-PUBLISHED-TTL:P3D
REFRESH-INTERVAL:P3D
CALSCALE:GREGORIAN
BEGIN:VEVENT
DTSTART:20251007T163000Z
DTEND:20251007T180000Z
X-MICROSOFT-CDO-ALLDAYEVENT:FALSE
SUMMARY:Creating Business Connections at Time Out Sports Bar & Grill
DESCRIPTION:Creating Business Connections (CBC) is the first Tuesday of each month (excluding holidays) from 11:30am to 1:00pm. This event is an opportunity to enjoy lunch\, network and build relationships. The fee ($15 pre-register or $18 at the door) includes lunch and a drink. Join us at Time Out Sports Bar & Grill this month!\n\n\n\nMenu: Pasta Alfredo\, Toasted Ravioli & Salad\n\n\n\nAttendance prizes will be given out!\n\n\n\n If you are interested in joining the TMSM Chamber of Commerce\, you can attend one month of events before joining!
X-ALT-DESC;FMTTYPE=text/html:Creating Business Connections (CBC) is the first Tuesday of each month (excluding holidays) from 11:30am to 1:00pm. This event is an opportunity to enjoy lunch\, network and build relationships. The fee ($15 pre-register or $18 at the door) includes lunch and a drink. Join us at <strong>Time Out Sports Bar &amp\; Grill </strong>this month!<br style="font-family: &quot\;times new roman&quot\;\; font-size: 16px\;" />\n<br />\n<span style="font-family: arial\; font-size: 14px\;"><strong>Menu: Pasta Alfredo\, Toasted Ravioli &amp\; Salad</strong></span><br />\n<br style="font-family: &quot\;times new roman&quot\;\; font-size: 16px\;" />\n<span style="font-size:14px\;"><span style="font-family:arial\;">Attendance prizes will be given out!</span></span><br />\n<br />\n&#8203\;If you are interested in joining the TMSM Chamber of Commerce\, you can attend one month of events before joining!
LOCATION:Time Out Sports Bar & Grill 111 West Market Street Troy\, IL 62294
UID:e.3456.10075
SEQUENCE:3
DTSTAMP:20260420T153243Z
URL:https://www.troymaryvillecoc.com/events/details/creating-business-connections-at-time-out-sports-bar-grill-10075
END:VEVENT

END:VCALENDAR
