BEGIN:VCALENDAR
VERSION:2.0
PRODID:-//ChamberMaster//Event Calendar 2.0//EN
METHOD:PUBLISH
X-PUBLISHED-TTL:P3D
REFRESH-INTERVAL:P3D
CALSCALE:GREGORIAN
BEGIN:VEVENT
DTSTART:20250913T210000Z
DTEND:20250914T000000Z
X-MICROSOFT-CDO-ALLDAYEVENT:FALSE
SUMMARY:Dairy Queen Car Cruises
DESCRIPTION:50/50! Prizes! Music! Dash Plaques!\n\n\n\nDairy Queen and The Piston Pushers Classic Car Club is not responsible for loss or damage to personal property. NO ALCOHOL ALLOWED. NOT RESPONSIBLE FOR ACCIDENTS.
X-ALT-DESC;FMTTYPE=text/html:50/50! Prizes! Music! Dash Plaques!<br />\n<br />\nDairy Queen and The Piston Pushers Classic Car Club is not responsible for loss or damage to personal property. NO ALCOHOL ALLOWED. NOT RESPONSIBLE FOR ACCIDENTS.
LOCATION:810 Edwardsville Rd. Troy\, IL 62294
UID:e.3456.10233
SEQUENCE:3
DTSTAMP:20260420T170333Z
URL:https://www.troymaryvillecoc.com/events/details/dairy-queen-car-cruises-10233
END:VEVENT

END:VCALENDAR
