BEGIN:VCALENDAR
VERSION:2.0
PRODID:-//ChamberMaster//Event Calendar 2.0//EN
METHOD:PUBLISH
X-PUBLISHED-TTL:P3D
REFRESH-INTERVAL:P3D
CALSCALE:GREGORIAN
BEGIN:VEVENT
DTSTART:20251101T140000Z
DTEND:20251101T170000Z
X-MICROSOFT-CDO-ALLDAYEVENT:FALSE
SUMMARY:E-cycle/Shredding Event - Maryville
DESCRIPTION:E-Cycle: CJD E-cycling\n\nShredding: The Shred Truck
X-ALT-DESC;FMTTYPE=text/html:<br />\nE-Cycle: CJD E-cycling<br />\nShredding: The Shred Truck<br />\n&nbsp\;
LOCATION:First Baptist Church Maryville 7110 IL-162 Maryville\, IL 62062
UID:e.3456.10371
SEQUENCE:3
DTSTAMP:20260420T120412Z
URL:https://www.troymaryvillecoc.com/events/details/e-cycle-shredding-event-maryville-10371
END:VEVENT

END:VCALENDAR
