BEGIN:VCALENDAR
VERSION:2.0
PRODID:-//ChamberMaster//Event Calendar 2.0//EN
METHOD:PUBLISH
X-PUBLISHED-TTL:P3D
REFRESH-INTERVAL:P3D
CALSCALE:GREGORIAN
BEGIN:VEVENT
DTSTART:20250920T140000Z
DTEND:20250920T170000Z
X-MICROSOFT-CDO-ALLDAYEVENT:FALSE
SUMMARY:E-cycle/Shredding/Prescription Drop-Off Event - Troy
DESCRIPTION:E-Cycle: CJD E-cycling\n\nShredding: The Shred Truck\n\nPrescriptions / Glasses / Hearing Aid Drop-Off: Troy Lions Club & Troy Police Department
X-ALT-DESC;FMTTYPE=text/html:<br />\nE-Cycle: CJD E-cycling<br />\nShredding: The Shred Truck<br />\nPrescriptions / Glasses / Hearing Aid Drop-Off: Troy Lions Club &amp\; Troy Police Department
LOCATION:Triad High School 703 U.S. Hwy 40 Troy\, IL 62294
UID:e.3456.10370
SEQUENCE:3
DTSTAMP:20260420T170453Z
URL:https://www.troymaryvillecoc.com/events/details/e-cycle-shredding-prescription-drop-off-event-troy-10370
END:VEVENT

END:VCALENDAR
