BEGIN:VCALENDAR
VERSION:2.0
PRODID:-//ChamberMaster//Event Calendar 2.0//EN
METHOD:PUBLISH
X-PUBLISHED-TTL:P3D
REFRESH-INTERVAL:P3D
CALSCALE:GREGORIAN
BEGIN:VEVENT
DTSTART:20251018T170000Z
DTEND:20251018T220000Z
X-MICROSOFT-CDO-ALLDAYEVENT:FALSE
SUMMARY:Edwardsville Gun Club 2nd Annual Open House
DESCRIPTION:Edwardsville Gun Club Open House   October 18\, 2025\n\nLooking for a fun\, family-friendly way to experience the great outdoors this fall? Edwardsville Gun Club warmly invites the community to our Open House on Saturday\, October 18th!\n\nJoin us for a day packed with exciting activities including trap and 5-stand shooting\, rifle and pistol range experiences\, guided tours of our beautiful grounds\, and a chance to explore our lake and walking trails. Bring the kids for a scavenger hunt and enjoy delicious complimentary food featuring hot dogs\, brats and chips. Plus\, don't miss out on attendance prizes and giveaways!\n\nThis is a fantastic opportunity to see why so many choose Edwardsville Gun Club as their outdoor destination   and learn how you can become a member. No RSVP required   just come by and enjoy the day!\n\nFollow us on Facebook for more details.(https://www.facebook.com/edwardsvillegunclub)
X-ALT-DESC;FMTTYPE=text/html:<p><strong>Edwardsville Gun Club Open House &ndash\; October 18\, 2025</strong></p>\n\n<p>Looking for a fun\, family-friendly way to experience the great outdoors this fall? Edwardsville Gun Club warmly invites the community to our Open House on Saturday\, October 18th!</p>\n\n<p>Join us for a day packed with exciting activities including trap and 5-stand shooting\, rifle and pistol range experiences\, guided tours of our beautiful grounds\, and a chance to explore our lake and walking trails. Bring the kids for a scavenger hunt and enjoy delicious complimentary food featuring hot dogs\, brats and chips. Plus\, don&rsquo\;t miss out on attendance prizes and giveaways!</p>\n\n<p>This is a fantastic opportunity to see why so many choose Edwardsville Gun Club as their outdoor destination &mdash\; and learn how you can become a member. No RSVP required &mdash\; just come by and enjoy the day!</p>\n\n<p>Follow us on Facebook for more details.(https://www.facebook.com/edwardsvillegunclub)</p>\n
LOCATION:4104 Staunton Rd\, Edwardsville\, IL 62025
UID:e.3456.10451
SEQUENCE:3
DTSTAMP:20260420T170928Z
URL:https://www.troymaryvillecoc.com/events/details/edwardsville-gun-club-2nd-annual-open-house-10451
END:VEVENT

END:VCALENDAR
