BEGIN:VCALENDAR
VERSION:2.0
PRODID:-//ChamberMaster//Event Calendar 2.0//EN
METHOD:PUBLISH
X-PUBLISHED-TTL:P3D
REFRESH-INTERVAL:P3D
CALSCALE:GREGORIAN
BEGIN:VEVENT
DTSTART;VALUE=DATE:20230906
DTEND;VALUE=DATE:20230907
TRANSP:TRANSPARENT
X-MICROSOFT-CDO-ALLDAYEVENT:TRUE
SUMMARY:Find It
DESCRIPTION:Each week a small stuffed animal is hidden in the library. Find the item\, describe the location to the librarian and receive a small prize. \n\nQuestions:tritownship@gmail.com
X-ALT-DESC;FMTTYPE=text/html:<br />\nEach week a small stuffed animal is hidden in the library. Find the item\, describe the location to the librarian and receive a small prize.&nbsp\;<br />\nQuestions:tritownship@gmail.com
LOCATION:
UID:e.3456.5904
SEQUENCE:3
DTSTAMP:20260420T120201Z
URL:https://www.troymaryvillecoc.com/events/details/find-it-09-06-2023-5904
END:VEVENT

END:VCALENDAR
