BEGIN:VCALENDAR
VERSION:2.0
PRODID:-//ChamberMaster//Event Calendar 2.0//EN
METHOD:PUBLISH
X-PUBLISHED-TTL:P3D
REFRESH-INTERVAL:P3D
CALSCALE:GREGORIAN
BEGIN:VEVENT
DTSTART:20251012T163000Z
DTEND:20251012T213000Z
X-MICROSOFT-CDO-ALLDAYEVENT:FALSE
SUMMARY:Friedens Fall Sausage Dinner
DESCRIPTION:Drive Thru Only\n\nDinners are $15/plate\n\nMenu Includes: Grilled Pork Sausage\, Mashed Potatoes & Gravy\, Sauerkraut\, Green Beans\, and a Dessert
X-ALT-DESC;FMTTYPE=text/html:Drive Thru Only<br />\nDinners are $15/plate<br />\nMenu Includes: Grilled Pork Sausage\, Mashed Potatoes &amp\; Gravy\, Sauerkraut\, Green Beans\, and a Dessert
LOCATION:Friedens United Church of Christ 207 E Center St.\, Troy\, IL 62294
UID:e.3456.10470
SEQUENCE:3
DTSTAMP:20260420T152339Z
URL:https://www.troymaryvillecoc.com/events/details/friedens-fall-sausage-dinner-10470
END:VEVENT

END:VCALENDAR
