BEGIN:VCALENDAR
VERSION:2.0
PRODID:-//ChamberMaster//Event Calendar 2.0//EN
METHOD:PUBLISH
X-PUBLISHED-TTL:P3D
REFRESH-INTERVAL:P3D
CALSCALE:GREGORIAN
BEGIN:VEVENT
DTSTART:20251001T220000Z
DTEND:20251002T010000Z
X-MICROSOFT-CDO-ALLDAYEVENT:FALSE
SUMMARY:Give Breast Cancer the Boot: Ladies Night Out
DESCRIPTION:In celebration of National Hospital Week\, we're proud to introduce a brand-new community event from Anderson Hospital:\n\nGive Breast Cancer the Boot: Ladies Night Out\n\nOctober 1\, 2025\n\nJoin us for a fun and meaningful evening featuring:\n\n  Vendor booths -- Now accepting applications: https://bit.ly/3E87gab\n\n  Light snacks & cash bar\n\n  Prizes & giveaways\n\n  Survivor stories\n\n  Breast cancer education\n\n  On-site mammography scheduling\n\nWhy it matters:\n\n  1 in 8 women will be diagnosed with breast cancer in her lifetime\n\n  Early detection boosts the 5-year survival rate to nearly 99%\n\nThis event is yet another example of how community hospitals play a vital role in keeping our communities informed\, supported\, and healthy.\n\nLet's make health a priority together we can Give Breast Cancer the Boot!\n\n#GiveCancerTheBoot #AndersonCares #LadiesNightOut #BreastCancerAwareness #CommunityHospitalsMatter #EarlyDetectionSavesLives
X-ALT-DESC;FMTTYPE=text/html:In celebration of National Hospital Week\, we&rsquo\;re proud to introduce a brand-new community event from Anderson Hospital:<br />\nGive Breast Cancer the Boot: Ladies Night Out<br />\nOctober 1\, 2025<br />\nJoin us for a fun and meaningful evening featuring:<br />\n&bull\; Vendor booths -- Now accepting applications: https://bit.ly/3E87gab<br />\n&bull\; Light snacks &amp\; cash bar<br />\n&bull\; Prizes &amp\; giveaways<br />\n&bull\; Survivor stories<br />\n&bull\; Breast cancer education<br />\n&bull\; On-site mammography scheduling<br />\nWhy it matters:<br />\n&bull\; 1 in 8 women will be diagnosed with breast cancer in her lifetime<br />\n&bull\; Early detection boosts the 5-year survival rate to nearly 99%<br />\nThis event is yet another example of how community hospitals play a vital role in keeping our communities informed\, supported\, and healthy.<br />\nLet&rsquo\;s make health a priority&mdash\;together we can Give Breast Cancer the Boot!<br />\n#GiveCancerTheBoot #AndersonCares #LadiesNightOut #BreastCancerAwareness #CommunityHospitalsMatter #EarlyDetectionSavesLives
LOCATION:Edwardsville Moose Lodge 7371 Marine Road
UID:e.3456.10376
SEQUENCE:3
DTSTAMP:20260420T170757Z
URL:https://www.troymaryvillecoc.com/events/details/give-breast-cancer-the-boot-ladies-night-out-10376
END:VEVENT

END:VCALENDAR
