BEGIN:VCALENDAR
VERSION:2.0
PRODID:-//ChamberMaster//Event Calendar 2.0//EN
METHOD:PUBLISH
X-PUBLISHED-TTL:P3D
REFRESH-INTERVAL:P3D
CALSCALE:GREGORIAN
BEGIN:VEVENT
DTSTART:20251015T170000Z
DTEND:20251015T180000Z
X-MICROSOFT-CDO-ALLDAYEVENT:FALSE
SUMMARY:Grand Opening & Ribbon Cutting at Adam Wolfe State Farm Troy Agency
DESCRIPTION:Join us at our grand opening celebration for Our Troy\, IL Location! Enjoy refreshments\, sandwiches\, and cookies   all provided by fellow Chamber members!
X-ALT-DESC;FMTTYPE=text/html:<br />\nJoin us at our grand opening celebration for Our Troy\, IL Location!&nbsp\;Enjoy refreshments\, sandwiches\, and cookies &mdash\; all provided by fellow Chamber members!
LOCATION:Adam Wolfe State Farm Agency 540 Edwardsville Road Troy\, IL 62294
UID:e.3456.10510
SEQUENCE:3
DTSTAMP:20260420T154044Z
URL:https://www.troymaryvillecoc.com/events/details/grand-opening-ribbon-cutting-at-adam-wolfe-state-farm-troy-agency-10510
END:VEVENT

END:VCALENDAR
