BEGIN:VCALENDAR
VERSION:2.0
PRODID:-//ChamberMaster//Event Calendar 2.0//EN
METHOD:PUBLISH
X-PUBLISHED-TTL:P3D
REFRESH-INTERVAL:P3D
CALSCALE:GREGORIAN
BEGIN:VEVENT
DTSTART:20251014T210000Z
DTEND:20251014T220000Z
X-MICROSOFT-CDO-ALLDAYEVENT:FALSE
SUMMARY:Grand Opening & Ribbon Cutting at Misty's Mutts
DESCRIPTION:Join us for Misty's Mutts Ribbon Cutting celebration! Guests will have the opportunity to tour the facility\, learn about the wide range of grooming services offered\, and enjoy special grooming promotions available exclusively for attendees.
X-ALT-DESC;FMTTYPE=text/html:Join us for Misty&rsquo\;s Mutts Ribbon Cutting celebration! Guests will have the opportunity to tour the facility\, learn about the wide range of grooming services offered\, and enjoy special grooming promotions available exclusively for attendees.&nbsp\;
LOCATION:Misty's Mutts 104 Washington Street St. Jacob\, IL 62281
UID:e.3456.10509
SEQUENCE:3
DTSTAMP:20260420T170710Z
URL:https://www.troymaryvillecoc.com/events/details/grand-opening-ribbon-cutting-at-misty-s-mutts-10509
END:VEVENT

END:VCALENDAR
