BEGIN:VCALENDAR
VERSION:2.0
PRODID:-//ChamberMaster//Event Calendar 2.0//EN
METHOD:PUBLISH
X-PUBLISHED-TTL:P3D
REFRESH-INTERVAL:P3D
CALSCALE:GREGORIAN
BEGIN:VEVENT
DTSTART:20251113T210000Z
DTEND:20251113T220000Z
X-MICROSOFT-CDO-ALLDAYEVENT:FALSE
SUMMARY:Groundbreaking Ceremony
DESCRIPTION:The Village of Maryville is proud to announce that construction will begin in early November for the long-awaited Firemen's Park Entertainment Pavilion.
X-ALT-DESC;FMTTYPE=text/html:<span style="color: rgb(34\, 34\, 34)\;"><font face="arial"><span style="font-size: 12px\;">The Village of Maryville is proud to announce that construction will begin in early November</span></font></span><span style="font-family: arial\; font-size: 12px\; color: rgb(34\, 34\, 34)\;">&nbsp\;for the long-awaited Firemen&#39\;s Park Entertainment Pavilion.&nbsp\;</span>
LOCATION:Firemen's Park 300 North Donk Ave. Maryville\, IL\, 62062
UID:e.3456.10528
SEQUENCE:3
DTSTAMP:20260420T120038Z
URL:https://www.troymaryvillecoc.com/events/details/groundbreaking-ceremony-10528
END:VEVENT

END:VCALENDAR
