BEGIN:VCALENDAR
VERSION:2.0
PRODID:-//ChamberMaster//Event Calendar 2.0//EN
METHOD:PUBLISH
X-PUBLISHED-TTL:P3D
REFRESH-INTERVAL:P3D
CALSCALE:GREGORIAN
BEGIN:VEVENT
DTSTART:20230907T230000Z
DTEND:20230908T000000Z
X-MICROSOFT-CDO-ALLDAYEVENT:FALSE
SUMMARY:Maryville Library: History Speaks
DESCRIPTION:Join Circulation Specialist Nicholas Waller as he makes history come to life with lively presentations on various historical topics. This month we shall discuss the Crusades.
X-ALT-DESC;FMTTYPE=text/html:<br />\nJoin Circulation Specialist Nicholas Waller as he makes history come to life with lively presentations on various historical topics. This month we shall discuss the Crusades.&nbsp\;
LOCATION:Maryville Library 8 Schiber Ct\, Maryville\, IL 62062
UID:e.3456.6127
SEQUENCE:3
DTSTAMP:20260420T120251Z
URL:https://www.troymaryvillecoc.com/events/details/history-speaks-09-07-2023-6127
END:VEVENT

END:VCALENDAR
