BEGIN:VCALENDAR
VERSION:2.0
PRODID:-//ChamberMaster//Event Calendar 2.0//EN
METHOD:PUBLISH
X-PUBLISHED-TTL:P3D
REFRESH-INTERVAL:P3D
CALSCALE:GREGORIAN
BEGIN:VEVENT
DTSTART:20261128T210000Z
DTEND:20261129T010000Z
X-MICROSOFT-CDO-ALLDAYEVENT:FALSE
SUMMARY:Hometown Holiday Market
DESCRIPTION:Market & Main\n\nTroy\, IL
X-ALT-DESC;FMTTYPE=text/html:Market &amp\; Main<br />\nTroy\, IL
LOCATION:
UID:e.3456.10750
SEQUENCE:3
DTSTAMP:20260421T053030Z
URL:https://www.troymaryvillecoc.com/events/details/hometown-holiday-market-10750
END:VEVENT

END:VCALENDAR
