BEGIN:VCALENDAR
VERSION:2.0
PRODID:-//ChamberMaster//Event Calendar 2.0//EN
METHOD:PUBLISH
X-PUBLISHED-TTL:P3D
REFRESH-INTERVAL:P3D
CALSCALE:GREGORIAN
BEGIN:VEVENT
DTSTART:20250923T183000Z
DTEND:20250923T220000Z
X-MICROSOFT-CDO-ALLDAYEVENT:FALSE
SUMMARY:Horse Hooky Tuesdays at Fairmount Park
DESCRIPTION:Join us for a fun and relaxed afternoon at Fairmount Park Casino & Racing!\n\n  Free Entry\n\n  Two Drink Tickets Included\n\n  Starts at 1:30 PM   feel free to arrive anytime before or after the start time\n\n  Reserved Area for Chamber Members & Guests
X-ALT-DESC;FMTTYPE=text/html:<p data-end="284" data-start="156">Join us for a fun and relaxed afternoon at <strong data-end="281" data-start="199">Fairmount Park Casino &amp\; Racing</strong>!</p>\n\n<p data-end="480" data-start="286">&#9989\; <strong data-end="302" data-start="288">Free Entry</strong><br data-end="305" data-start="302" />\n&#127864\; <strong data-end="338" data-start="308">Two Drink Tickets Included</strong><br data-end="341" data-start="338" />\n&#128348\; <strong data-end="365" data-start="344">Starts at 1:30 PM</strong> &mdash\; feel free to arrive anytime before or after the start time<br data-end="429" data-start="426" />\n&#128205\; <strong data-end="478" data-is-only-node="" data-start="432">Reserved Area for Chamber Members &amp\; Guests</strong></p>\n
LOCATION:Fairmount Park Casino & Racing 9301 Collinsville Road Collinsville\, IL 62234
UID:e.3456.10450
SEQUENCE:3
DTSTAMP:20260420T184536Z
URL:https://www.troymaryvillecoc.com/events/details/horse-hooky-tuesdays-at-fairmount-park-10450
END:VEVENT

END:VCALENDAR
